BEGIN:VCALENDAR
VERSION:2.0
PRODID:-//Sustainable Fashion Week Chicago - ECPv6.15.20//NONSGML v1.0//EN
CALSCALE:GREGORIAN
METHOD:PUBLISH
X-WR-CALNAME:Sustainable Fashion Week Chicago
X-ORIGINAL-URL:https://www.sfwchicago.com
X-WR-CALDESC:Events for Sustainable Fashion Week Chicago
REFRESH-INTERVAL;VALUE=DURATION:PT1H
X-Robots-Tag:noindex
X-PUBLISHED-TTL:PT1H
BEGIN:VTIMEZONE
TZID:America/Chicago
BEGIN:DAYLIGHT
TZOFFSETFROM:-0600
TZOFFSETTO:-0500
TZNAME:CDT
DTSTART:20250309T080000
END:DAYLIGHT
BEGIN:STANDARD
TZOFFSETFROM:-0500
TZOFFSETTO:-0600
TZNAME:CST
DTSTART:20251102T070000
END:STANDARD
BEGIN:DAYLIGHT
TZOFFSETFROM:-0600
TZOFFSETTO:-0500
TZNAME:CDT
DTSTART:20260308T080000
END:DAYLIGHT
BEGIN:STANDARD
TZOFFSETFROM:-0500
TZOFFSETTO:-0600
TZNAME:CST
DTSTART:20261101T070000
END:STANDARD
BEGIN:DAYLIGHT
TZOFFSETFROM:-0600
TZOFFSETTO:-0500
TZNAME:CDT
DTSTART:20270314T080000
END:DAYLIGHT
BEGIN:STANDARD
TZOFFSETFROM:-0500
TZOFFSETTO:-0600
TZNAME:CST
DTSTART:20271107T070000
END:STANDARD
END:VTIMEZONE
BEGIN:VEVENT
DTSTART;TZID=America/Chicago:20260418T130000
DTEND;TZID=America/Chicago:20260418T150000
DTSTAMP:20260418T024522
CREATED:20260317T005352Z
LAST-MODIFIED:20260415T003553Z
UID:3530-1776517200-1776524400@www.sfwchicago.com
SUMMARY:Screenprinting Class (Beginner Friendly)
DESCRIPTION:Buy Tickets\n\n\n\nIn this BYOT (bring your own t-shirt) workshop\, you’ll learn the art of screen printing and upcycle a t-shirt into one-of-a-kind wearable art! No prior skills or experience required.  \n\n\n\nDuring this 2-hour class\, you’ll be inspired by our selection of 30+ unique and playful designs that can be mixed and matched however you like. We’ll demonstrate and coach you in the ink-pulling process to create beautiful image transfers onto your t-shirt (or sweatshirt\, hoodie\, tank top).
URL:https://www.sfwchicago.com/event/screenprinting-class-beginner-friendly/
LOCATION:Remade In Chicago\, 2336 N Western Ave\, Chicago\, Illinois\, 60647\, United States
ATTACH;FMTTYPE=image/png:https://www.sfwchicago.com/wp-content/uploads/2026/03/THIpdXHXMeFhvZ4DeOYkIXgb4i74uTKNUAyVEPu2.png
END:VEVENT
BEGIN:VEVENT
DTSTART;TZID=America/Chicago:20260419T130000
DTEND;TZID=America/Chicago:20260419T160000
DTSTAMP:20260418T024522
CREATED:20260228T041826Z
LAST-MODIFIED:20260316T231800Z
UID:3420-1776603600-1776614400@www.sfwchicago.com
SUMMARY:Natural Scarf Dyeing Workshop
DESCRIPTION:Buy Ticket\n\n\n\nA part of Sustainable Fashion Week Chicago’s April 2026 official program! \n\n\n\nIn this 3 hour workshop led by natural dyer Liz Mortensen of Laila Textiles\, attendees will learn the basics of natural dye and how to bundle dye with plants. \n\n\n\n\n\n \n\n\n\nAbout the Workshop:\n\n\n\n\nBasics of natural dyeing including fabric prep\, mordants\, and modifiers\n\n\n\nOverview of natural dye plants and how to extract plant dye\n\n\n\nHow to naturally bundle dye fabric with dried plants\n\n\n\nEach student will create and leave with a one-of-a kind bundle dyed 100% silk scarf as well as a PDF with information covered at workshopDate: Sunday April 19th\, 2026Time: 1:00pm – 4:00pm\n\n\n\n\nLocation: Laila Textiles Studio at N Kedzie Ave & W Carroll Ave in East Garfield Park (exact address & access information will be emailed to attendees after ticket purchase). \n\n\n\n\n1 minute walk from Metro Kedzie Stop\n\n\n\n6 minute walk from Kedzie Green Line Stop\n\n\n\n\nAccessibility Information: the studio is located on the second floor and is only accessible through a flight of stairs. \n\n\n\nClass Fees cover all supplies and materials. No prior experience needed\, all are welcome! Please wear clothes you do not mind getting a bit messy. \n\n\n\nWorkshop tickets are final sale and not eligible for refunds. See the full workshop policies\, here. \n\n\n\nBuy Ticket
URL:https://www.sfwchicago.com/event/natural-scarf-dyeing-workshop/
ATTACH;FMTTYPE=image/png:https://www.sfwchicago.com/wp-content/uploads/2026/02/unnamed-3.png
END:VEVENT
BEGIN:VEVENT
DTSTART;TZID=America/Chicago:20260420T183000
DTEND;TZID=America/Chicago:20260420T193000
DTSTAMP:20260418T024522
CREATED:20260317T005119Z
LAST-MODIFIED:20260317T005120Z
UID:3525-1776709800-1776713400@www.sfwchicago.com
SUMMARY:Innovations in Sustainable Textile Science
DESCRIPTION:RSVP\n\n\n\nJoin Sustainable Fashion Week Chicago for a virtual event exploring how advances in polymer science could reshape the future of clothing.  \n\n\n\nIn conversation with Professor Cécile Chazot\, head of the Sustainable Polymer Innovation Laboratory at Northwestern\, the discussion will showcase her team’s research on sustainable fibers\, recyclable textiles\, and innovative materials that reduce the environmental impact of fashion.  \n\n\n\n\n\n\n\nFrom biopolymer-based fabrics to color created without dyes\, in this hour-long interactive discussion\, Professor Chazot will share how the next generation of materials could transform how clothes are made\, worn\, and reused. Attendees of all backgrounds are welcome\, no STEM specialization required. \n\n\n\nThe virtual event includes a moderated discussion followed by audience question and answer section. \n\n\n\n\n\n\n\nAbout Professor Chazot \n\n\n\nCécile A. C. Chazot is the Julia Weertman Assistant Professor of Materials Science and Engineering at Northwestern University\, where she leads the Sustainable Polymer Innovation Laboratory (SPIn Lab). Since joining Northwestern in January 2023\, her research has focused on developing scalable and environmentally responsible polymer processes for textile manufacturing and recycling. \n\n\n\nHer lab combines fundamental biopolymer design with advanced materials processing to uncover and control structure–property–processing relationships in natural polymers\, with applications in stimuli-responsive fibers\, films\, and circular textile systems. Cécile earned her Ph.D. in Materials Science and Engineering from MIT in 2022\, under the supervision of Prof. A. John Hart\, and holds an M.Sc. in Materials Science and Engineering from Mines ParisTech in France. She is also a co-founder of the Materials Initiative for Comprehensive Research Opportunity (MICRO)\, a remote research program designed to expand access to materials science research for undergraduates across the U.S. Her work at the intersection of biopolymer innovation and fiber-based materials has earned her several recognitions\, including Early Career Awards from the Army Research Laboratory and the Department of Energy\, designation as an ACS Materials Au Rising Star in Materials Science\, and selection as an RSC Applied Polymers Emerging Investigator\, all in 2025. \n\n\n\nRSVP
URL:https://www.sfwchicago.com/event/innovations-in-sustainable-textile-science/
ATTACH;FMTTYPE=image/png:https://www.sfwchicago.com/wp-content/uploads/2026/03/Screenshot-2026-03-16-at-7.45.51-PM.png
END:VEVENT
BEGIN:VEVENT
DTSTART;TZID=America/Chicago:20260421T183000
DTEND;TZID=America/Chicago:20260421T193000
DTSTAMP:20260418T024522
CREATED:20260317T004534Z
LAST-MODIFIED:20260402T183451Z
UID:3520-1776796200-1776799800@www.sfwchicago.com
SUMMARY:No Sew T-Shirt Upcycling Class
DESCRIPTION:Join Sustainable Fashion Week and Ecoship Chicago Tuesday\, April 21st from 6:30 to 7:30 learn how to make a tote bag using just a t-shirt and scissors – no sewing skills required. Bring along those shirts you never wear and let’s get creative\, crafty\, and sustainable and make something you’ll love! \n\n\n\nSecondhand t-shirts will be available at the event while supplies last.\, though it is encouraged to bring your own. Each t-shirt creates one bag\, so please bring multiple if you’d like to make more than one! \n\n\n\nGet Tickets
URL:https://www.sfwchicago.com/event/no-sew-t-shirt-upcycling-class/
LOCATION:EcoShip\, 3248 N Pulaski Rd\, Chicago\, Illinois\, 60641\, United States
ATTACH;FMTTYPE=image/png:https://www.sfwchicago.com/wp-content/uploads/2026/03/Screenshot-2026-03-16-at-7.42.47-PM.png
END:VEVENT
BEGIN:VEVENT
DTSTART;TZID=America/Chicago:20260422T180000
DTEND;TZID=America/Chicago:20260422T200000
DTSTAMP:20260418T024522
CREATED:20260317T010734Z
LAST-MODIFIED:20260402T200100Z
UID:3538-1776880800-1776888000@www.sfwchicago.com
SUMMARY:Earth Day Panel & Social: Reimagining Chicago — The City’s Approach to Fashion\, Policy\, Tech\, & Activism
DESCRIPTION:Get Tickets\n\n\n\nAs part of Sustainable Fashion Week Chicago’s spring programming\, in partnership with Chicago Climate Connect\, this special Earth Day event welcomes attendees of all climate backgrounds and careers to meet and hear from a panel of local experts leading cross-sector collaboration to advance environmental change across Illinois. \n\n\n\nAbout the Event: \n\n\n\nJoin us for an evening focusing on Chicago’s sustainability progress. Learn about advancements across circularity in fashion\, cross-sector impact with tech\, policy\, and the role Chicago can play in transitioning to a more ethical and environmental future for all. \n\n\n\nGet a preview of the future of fashion policy and next steps on how to get involved for long-term systemic change starting locally! Plus\, discover Loopera\, the Chicago-based tech company implementing Digital ID Passports to track garments throughout the entire supply chain. \n\n\n\nClimate organizations will be on-site with open tabling and other hands-on-elements\, while providing attendees with ample time for networking. \n\n\n\nA donation bin will be on-site collecting clean and gently used clothing items of all sizes. \n\n\n\nMeet the Panelists: \n\n\n\nNicole Ruiz is the Executive Director of the Apparel Industry Board\, Inc. (AIBI)\, where she leads efforts to modernize and unite Chicago’s sewn products industry through innovation\, sustainability\, and community-centered programming. With a background in fashion design\, a certificate in fashion sustainability from Copenhagen Business School\, and over a decade in Saas tech\, Nicole brings a unique cross-sector perspective to her work. She is the founder of Loopera\, a fashion tech platform for digital product passports\, and creator of a patent pending NFC Rivot. Her leadership connects fashion\, technology\, and economic development to build a more circular and sustainable future for the industry. \n\n\n\nMacaila Britton is a storyteller and Environmental Advocate. She founded Sustainable Fashion Week Chicago as a way to bring more sustainable fashion opportunities to the Windy City\, while bringing communities together to champion change. Previously\, she was the Communications Director for His Majesty King Charles III’s Sustainable Markets Initiative. She has completed programs with The University of Cambridge’s Institute For Sustainable Leadership and is ALBERT Trained for sustainable productions. When she’s not running Sustainable Fashion Week Chicago\, you can find her hosting a lifestyle activism radio show\, blending her passion for people\, stewarding the earth\, and her love for storytelling. \n\n\n\nJacob Moeller is a co-organizer of Chicago Climate Week 2026\, and consults for the Center for Transportation and the Environment (CTE). Earlier in his career\, he advised corporate clients on investor relations — specifically in capital markets\, corporate strategy\, and stakeholder management. A deft storyteller with a knack for developing partnerships\, he’s now applying those skills to the climate space throughout Chicago. Jacob is dedicated to advancing clean transportation and engaging communities to build resilient\, collaborative solutions for a changing climate. \n\n\n\nModerated by Iisha Scott  \n\n\n\nIisha Scott is an award-winning\, Certified Broadcast Meteorologist at NBC Chicago. Her career has taken her across the country\, from the Southeast to the Mid-Atlantic\, and now to the Midwest. Throughout her career\, she’s covered everything from hurricanes and tornadoes to blizzards.Iisha is a proud graduate of Norfolk State University and Mississippi State University\, where she studied mass communications\, geosciences\, and broadcast meteorology. Beyond the forecast\, she’s earned climate certifications and is passionate about connecting the dots between our everyday weather\, climate change\, and sustainability\, helping all of us better understand what’s happening in the world around us. She’s also a member of Alpha Kappa Alpha Sorority\, Incorporated\, the National Association of Black Journalists\, the National Weather Association\, and the American Meteorological Society.
URL:https://www.sfwchicago.com/event/earth-day-panel-social-reimagining-chicago-the-citys-approach-to-fashion-policy-tech-activism/
LOCATION:Second Shift Chicago\, 3432 W Diversey Ave. Floor 2\, Chicago\, Illinois\, United States
ATTACH;FMTTYPE=image/jpeg:https://www.sfwchicago.com/wp-content/uploads/2025/07/IMG_7155.jpeg
END:VEVENT
BEGIN:VEVENT
DTSTART;TZID=America/Chicago:20260423T183000
DTEND;TZID=America/Chicago:20260423T193000
DTSTAMP:20260418T024522
CREATED:20260316T233512Z
LAST-MODIFIED:20260410T211106Z
UID:3498-1776969000-1776972600@www.sfwchicago.com
SUMMARY:Virtual: What Is Personal Style Really?
DESCRIPTION:RSVP\n\n\n\nA part of Sustainable Fashion Week Chicago’s April 2026 official program! \n\n\n\nYou hear it all the time: “Find your style\,” “Wow I love your style!” But what does personal style really mean? How do you go about cultivating it? What role does it play in the sustainable fashion movement? \n\n\n\nJoin Sustainable Fashion Week Chicago for free hour-long panel discussion that will dive deep into these questions and more. \n\n\n\nExpert panelists include: Maggie Gillette\, Partner at the Curio and CoFounder of Chicago Fashion Vanguard; André Wilson\, Image Coach & Style Strategist and Founder of the Black Garment Bag; and Hannah Linksy\, Vintage Stylist & Fashion Historian! \n\n\n\n\n\n\n\nRSVP
URL:https://www.sfwchicago.com/event/what-is-personal-style-really/
ATTACH;FMTTYPE=image/jpeg:https://www.sfwchicago.com/wp-content/uploads/2026/03/WRUfPzm75n3CRA8NNzav6iC7qfL8tTXbUc4IRtXE.jpg
END:VEVENT
BEGIN:VEVENT
DTSTART;TZID=America/Chicago:20260425T140000
DTEND;TZID=America/Chicago:20260425T160000
DTSTAMP:20260418T024522
CREATED:20260316T231542Z
LAST-MODIFIED:20260316T231651Z
UID:3481-1777125600-1777132800@www.sfwchicago.com
SUMMARY:First Stitches: Beginner Sewing Class
DESCRIPTION:A part of Sustainable Fashion Week Chicago’s April 2026 official program! \n\n\n\nExperience what it’s like to use a sewing machine. Learn to thread a machine and use it to make a seam. Then turn a scrap of fabric and a little hunk of elastic into a scrunchie! We’ll provide all the materials and equipment. \n\n\n\nBuy Tickets
URL:https://www.sfwchicago.com/event/first-stitches-beginner-sewing-class/
LOCATION:Sew Anastasia\, 2041 W Carroll Ave\, Unit 222\, Chicago\, Illinois\, United States
ATTACH;FMTTYPE=image/png:https://www.sfwchicago.com/wp-content/uploads/2026/03/Screenshot-2026-03-16-at-6.13.25-PM.png
END:VEVENT
BEGIN:VEVENT
DTSTART;TZID=America/Chicago:20260425T163000
DTEND;TZID=America/Chicago:20260425T183000
DTSTAMP:20260418T024522
CREATED:20260316T232300Z
LAST-MODIFIED:20260316T232301Z
UID:3492-1777134600-1777141800@www.sfwchicago.com
SUMMARY:T-shirt "Sergery" Workshop
DESCRIPTION:A part of Sustainable Fashion Week Chicago’s April 2026 official program! \n\n\n\nLearn to use a serger to transform the fit and style of T-shirts. We’ll demonstrate how to use the machines and the techniques you need to use\, and then we’ll help you transform t-shirts on your own.  \n\n\n\n2 t-shirts per person will be provided\, but\, if you like\, you can bring in your own to transform.
URL:https://www.sfwchicago.com/event/t-shirt-sergery-workshop/
LOCATION:Sew Anastasia\, 2041 W Carroll Ave\, Chicago\, Illinois\, 60612\, United States
ATTACH;FMTTYPE=image/png:https://www.sfwchicago.com/wp-content/uploads/2026/03/Screenshot-2026-03-16-at-6.19.29-PM.png
END:VEVENT
BEGIN:VEVENT
DTSTART;TZID=America/Chicago:20260426T130000
DTEND;TZID=America/Chicago:20260426T180000
DTSTAMP:20260418T024522
CREATED:20260317T003855Z
LAST-MODIFIED:20260416T161956Z
UID:3508-1777208400-1777226400@www.sfwchicago.com
SUMMARY:Sustainable Fashion Symposium\, Fashion Show\, & Social
DESCRIPTION:Get Tickets\n\n\n\nJoin Sustainable Fashion Week Chicago for the spring sustainable fashion symposium\, sustainable fashion show\, and social! \n\n\n\n\n\n\n\nThe day begins with the Sustainable Fashion Symposium\, which brings together the Chicagoland area’s sustainable fashion designers\, creatives\, academics\, professionals\, students\, and advocates. Together\, the community will learn about innovations\, change-makers\, and initiatives progressing the shift toward a more sustainable and fair fashion industry. \n\n\n\nAfter the show\, enjoy a meet and greet with the designers and learn more about the garments. Plus\, mingle with other guests and get to know other sustainable fashion brands\, businesses\, and community organizations.  \n\n\n\nProgram:  \n\n\n\nSustainable Fashion Week Chicago (SFWC) Introduction and Opening Remarks  \n\n\n\nMacaila Britton\, SFWC Founder & Executive Director \n\n\n\nSophia Corning\, SFWC Director of Programming \n\n\n\nMeet Coclo: the Student-Developed App Reducing Campus Clothing Waste \n\n\n\nUniversity of Chicago Coclo Student Representatives \n\n\n\nAffordability & Access in Chicago’s Secondhand Clothing Market \n\n\n\nMireya Fouché\, Monarch Thrift Shop Co-Executive Director and Co-Founder \n\n\n\nDani Salazar\, Manos Entrelezadas Southside Alliance (MESA) Co-Lead \n\n\n\nModerated by Elizabeth Joy Magalski\, Conscious Fashion Collective Director & Community Manager \n\n\n\nIntermission \n\n\n\nMy Journey to 617 Days (and Counting) of Buying Nothing New \n\n\n\nJodi Doyle\, Uplevel Redesign Personal Stylist \n\n\n\nAge\, Expression\, and Consumption in the Fashion Industry \n\n\n\nTheodora Krochman\, Recipient of FGI/Chicago Rising Star Award for Content Creator                                                        and Host of the “Why Don’t We Get Dressed for Dinner Anymore?” Podcast \n\n\n\nModerated by Sophia Corning\, SFWC Director of Programming \n\n\n\nRunway Show \n\n\n\nJosh Drews\, Arthouse \n\n\n\nPatricia Quill \n\n\n\nTukii Tucker \n\n\n\nLight Bites and Social \n\n\n\nGet Tickets
URL:https://www.sfwchicago.com/event/sustainable-fashion-symposium/
LOCATION:Fulton Street Collective\, 1821 W. Hubbard\, #307\, Chicago\, Illinois\, 60622\, United States
ATTACH;FMTTYPE=image/png:https://www.sfwchicago.com/wp-content/uploads/2026/03/Banner-3.png
END:VEVENT
END:VCALENDAR